BEGIN:VCALENDAR
VERSION:2.0
PRODID:-//wp-events-plugin.com//7.2.3.1//EN
BEGIN:VEVENT
UID:2@alikitsakoumi.com
DTSTART;TZID=Europe/Berlin:20260614T200000
DTEND;TZID=Europe/Berlin:20260614T200000
DTSTAMP:20260423T121107Z
URL:https://alikitsakoumi.com/events/cosmopolitan-saligari-berlin/
SUMMARY:Cosmopolitan - SaliGari Berlin
DESCRIPTION:\n\n\nA confident and clueless Greek stand-up comedian living i
 n Stockholm shares her sharp thoughts with her not-so-sharp English.\n\n\n
 \n\n\n\nA confident and clueless Greek stand-up comedian living in Stockho
 lm shares her sharp thoughts with her not-so-sharp English. Misunderstandi
 ng and questioning every culture that will have her\, she goes on about ac
 cents\, families\, tourists and pedestrian crossing lines. Perfect for any
 one who has tried to express themselves in a second language!\n\nAn Edinbu
 rgh Fringe preview - live at SaliGari Bar\, Friedrichshain.\n\nVenue: Sali
 Gari Bar\, Simplonstraße 23\, Berlin 10245\n\nDate 1: Wednesday April 30\
 n\nDate 2: Saturday June 14\n\nDoors: 19:00\n\nShow: 20:00\n\nTickets: €
 10\n\n\n
ATTACH;FMTTYPE=image/jpeg:https://alikitsakoumi.com/wp-content/uploads/V3_
 JUN14_Front-scaled.jpg
LOCATION:SaliGari Bar\, Simplonstraße 23\, Berlin\, \, 10245 \, Germany
X-APPLE-STRUCTURED-LOCATION;VALUE=URI;X-ADDRESS=Simplonstraße 23\, Berlin\
 , \, 10245 \, Germany;X-APPLE-RADIUS=100;X-TITLE=SaliGari Bar:geo:0,0
END:VEVENT
BEGIN:VTIMEZONE
TZID:Europe/Berlin
X-LIC-LOCATION:Europe/Berlin
BEGIN:DAYLIGHT
DTSTART:20260329T030000
TZOFFSETFROM:+0100
TZOFFSETTO:+0200
TZNAME:CEST
END:DAYLIGHT
END:VTIMEZONE
END:VCALENDAR